BEGIN:VCALENDAR
VERSION:2.0
PRODID:-//WEBINARTE - ECPv6.15.17.1//NONSGML v1.0//EN
CALSCALE:GREGORIAN
METHOD:PUBLISH
X-WR-CALNAME:WEBINARTE
X-ORIGINAL-URL:https://webinarte.com
X-WR-CALDESC:Eventi per WEBINARTE
REFRESH-INTERVAL;VALUE=DURATION:PT1H
X-Robots-Tag:noindex
X-PUBLISHED-TTL:PT1H
BEGIN:VTIMEZONE
TZID:Europe/Rome
BEGIN:DAYLIGHT
TZOFFSETFROM:+0100
TZOFFSETTO:+0200
TZNAME:CEST
DTSTART:20240331T010000
END:DAYLIGHT
BEGIN:STANDARD
TZOFFSETFROM:+0200
TZOFFSETTO:+0100
TZNAME:CET
DTSTART:20241027T010000
END:STANDARD
BEGIN:DAYLIGHT
TZOFFSETFROM:+0100
TZOFFSETTO:+0200
TZNAME:CEST
DTSTART:20250330T010000
END:DAYLIGHT
BEGIN:STANDARD
TZOFFSETFROM:+0200
TZOFFSETTO:+0100
TZNAME:CET
DTSTART:20251026T010000
END:STANDARD
BEGIN:DAYLIGHT
TZOFFSETFROM:+0100
TZOFFSETTO:+0200
TZNAME:CEST
DTSTART:20260329T010000
END:DAYLIGHT
BEGIN:STANDARD
TZOFFSETFROM:+0200
TZOFFSETTO:+0100
TZNAME:CET
DTSTART:20261025T010000
END:STANDARD
END:VTIMEZONE
BEGIN:VEVENT
DTSTART;TZID=Europe/Rome:20251009T210000
DTEND;TZID=Europe/Rome:20251009T220000
DTSTAMP:20260421T111706
CREATED:20250919T112811Z
LAST-MODIFIED:20250919T112840Z
UID:10000085-1760043600-1760047200@webinarte.com
SUMMARY:L'ICONOGRAFIA DI SAN FRANCESCO
DESCRIPTION:Da Giotto a Caravaggio\, da Orazio Gentileschi a Zurbaran\, da El Greco a de Ribera fino alle nuove interpretazioni dell’arte contemporanea\, la figura di Francesco d’Assisi è stata oggetto di profonde riflessioni da parte degli artisti di tutti i tempi\, con esiti diversi da epoca a epoca. Li esploreremo insieme\, nel tentativo di ricapitolare gli aspetti principali di un sentire popolare da sempre rappresentato dal Santo. \n \nCi vediamo giovedì 9 ottobre alle 21\, sui nostri canali riservati
URL:https://webinarte.com/event/liconografia-di-san-francesco/
CATEGORIES:I Webinarte
ATTACH;FMTTYPE=image/jpeg:https://webinarte.com/wp-content/uploads/2025/09/1-francisco-de-zurbaran-san-francesco-contempla-un-teschio-184951-yDusYcg3.jpg
END:VEVENT
END:VCALENDAR