BEGIN:VCALENDAR
VERSION:2.0
PRODID:-//WEBINARTE - ECPv6.15.17.1//NONSGML v1.0//EN
CALSCALE:GREGORIAN
METHOD:PUBLISH
X-ORIGINAL-URL:https://webinarte.com
X-WR-CALDESC:Eventi per WEBINARTE
REFRESH-INTERVAL;VALUE=DURATION:PT1H
X-Robots-Tag:noindex
X-PUBLISHED-TTL:PT1H
BEGIN:VTIMEZONE
TZID:Europe/Rome
BEGIN:DAYLIGHT
TZOFFSETFROM:+0100
TZOFFSETTO:+0200
TZNAME:CEST
DTSTART:20240331T010000
END:DAYLIGHT
BEGIN:STANDARD
TZOFFSETFROM:+0200
TZOFFSETTO:+0100
TZNAME:CET
DTSTART:20241027T010000
END:STANDARD
BEGIN:DAYLIGHT
TZOFFSETFROM:+0100
TZOFFSETTO:+0200
TZNAME:CEST
DTSTART:20250330T010000
END:DAYLIGHT
BEGIN:STANDARD
TZOFFSETFROM:+0200
TZOFFSETTO:+0100
TZNAME:CET
DTSTART:20251026T010000
END:STANDARD
BEGIN:DAYLIGHT
TZOFFSETFROM:+0100
TZOFFSETTO:+0200
TZNAME:CEST
DTSTART:20260329T010000
END:DAYLIGHT
BEGIN:STANDARD
TZOFFSETFROM:+0200
TZOFFSETTO:+0100
TZNAME:CET
DTSTART:20261025T010000
END:STANDARD
END:VTIMEZONE
BEGIN:VEVENT
DTSTART;TZID=Europe/Rome:20251103T210000
DTEND;TZID=Europe/Rome:20251103T220000
DTSTAMP:20260419T180448
CREATED:20251024T062729Z
LAST-MODIFIED:20251024T062729Z
UID:10000101-1762203600-1762207200@webinarte.com
SUMMARY:IL BOOK CLUB! S.ZWEIG\, MARIA ANTONIETTA
DESCRIPTION:Il libro del mese è la biografia di Maria Antonietta di Stefan Zweig (vanno bene tutte le edizioni) \n 
URL:https://webinarte.com/event/il-book-club-s-zweig-maria-antonietta/
CATEGORIES:Book Club
ATTACH;FMTTYPE=image/png:https://webinarte.com/wp-content/uploads/2025/10/018e8ef696fc5f1efepaperback750x1127525-478715-2qeCmIdO.png
END:VEVENT
END:VCALENDAR