BEGIN:VCALENDAR
VERSION:2.0
PRODID:-//WEBINARTE - ECPv6.15.17.1//NONSGML v1.0//EN
CALSCALE:GREGORIAN
METHOD:PUBLISH
X-WR-CALNAME:WEBINARTE
X-ORIGINAL-URL:https://webinarte.com
X-WR-CALDESC:Eventi per WEBINARTE
REFRESH-INTERVAL;VALUE=DURATION:PT1H
X-Robots-Tag:noindex
X-PUBLISHED-TTL:PT1H
BEGIN:VTIMEZONE
TZID:Europe/Rome
BEGIN:DAYLIGHT
TZOFFSETFROM:+0100
TZOFFSETTO:+0200
TZNAME:CEST
DTSTART:20250330T010000
END:DAYLIGHT
BEGIN:STANDARD
TZOFFSETFROM:+0200
TZOFFSETTO:+0100
TZNAME:CET
DTSTART:20251026T010000
END:STANDARD
BEGIN:DAYLIGHT
TZOFFSETFROM:+0100
TZOFFSETTO:+0200
TZNAME:CEST
DTSTART:20260329T010000
END:DAYLIGHT
BEGIN:STANDARD
TZOFFSETFROM:+0200
TZOFFSETTO:+0100
TZNAME:CET
DTSTART:20261025T010000
END:STANDARD
BEGIN:DAYLIGHT
TZOFFSETFROM:+0100
TZOFFSETTO:+0200
TZNAME:CEST
DTSTART:20270328T010000
END:DAYLIGHT
BEGIN:STANDARD
TZOFFSETFROM:+0200
TZOFFSETTO:+0100
TZNAME:CET
DTSTART:20271031T010000
END:STANDARD
END:VTIMEZONE
BEGIN:VEVENT
DTSTART;TZID=Europe/Rome:20260422T150000
DTEND;TZID=Europe/Rome:20260422T160000
DTSTAMP:20260422T121829
CREATED:20260316T210736Z
LAST-MODIFIED:20260316T210736Z
UID:10000181-1776870000-1776873600@webinarte.com
SUMMARY:Caravaggio da porca figura : II modulo\, IV lezione
DESCRIPTION:(in aggiornamento)
URL:https://webinarte.com/event/caravaggio-da-porca-figura-ii-modulo-iv-lezione/
CATEGORIES:I corsi
END:VEVENT
BEGIN:VEVENT
DTSTART;TZID=Europe/Rome:20260422T210000
DTEND;TZID=Europe/Rome:20260422T220000
DTSTAMP:20260422T121829
CREATED:20260316T210826Z
LAST-MODIFIED:20260316T210826Z
UID:10000182-1776891600-1776895200@webinarte.com
SUMMARY:Caravaggio da porca figura : II modulo\, IV lezione
DESCRIPTION:(in aggiornamento)
URL:https://webinarte.com/event/caravaggio-da-porca-figura-ii-modulo-iv-lezione-2/
CATEGORIES:I corsi
END:VEVENT
END:VCALENDAR