BEGIN:VCALENDAR
VERSION:2.0
PRODID:-//WEBINARTE - ECPv6.15.17.1//NONSGML v1.0//EN
CALSCALE:GREGORIAN
METHOD:PUBLISH
X-WR-CALNAME:WEBINARTE
X-ORIGINAL-URL:https://webinarte.com
X-WR-CALDESC:Eventi per WEBINARTE
REFRESH-INTERVAL;VALUE=DURATION:PT1H
X-Robots-Tag:noindex
X-PUBLISHED-TTL:PT1H
BEGIN:VTIMEZONE
TZID:Europe/Rome
BEGIN:DAYLIGHT
TZOFFSETFROM:+0100
TZOFFSETTO:+0200
TZNAME:CEST
DTSTART:20250330T010000
END:DAYLIGHT
BEGIN:STANDARD
TZOFFSETFROM:+0200
TZOFFSETTO:+0100
TZNAME:CET
DTSTART:20251026T010000
END:STANDARD
BEGIN:DAYLIGHT
TZOFFSETFROM:+0100
TZOFFSETTO:+0200
TZNAME:CEST
DTSTART:20260329T010000
END:DAYLIGHT
BEGIN:STANDARD
TZOFFSETFROM:+0200
TZOFFSETTO:+0100
TZNAME:CET
DTSTART:20261025T010000
END:STANDARD
BEGIN:DAYLIGHT
TZOFFSETFROM:+0100
TZOFFSETTO:+0200
TZNAME:CEST
DTSTART:20270328T010000
END:DAYLIGHT
BEGIN:STANDARD
TZOFFSETFROM:+0200
TZOFFSETTO:+0100
TZNAME:CET
DTSTART:20271031T010000
END:STANDARD
END:VTIMEZONE
BEGIN:VEVENT
DTSTART;TZID=Europe/Rome:20260421T180000
DTEND;TZID=Europe/Rome:20260421T190000
DTSTAMP:20260421T125401
CREATED:20260416T075612Z
LAST-MODIFIED:20260416T075612Z
UID:10000194-1776794400-1776798000@webinarte.com
SUMMARY:WebinARTE riservato: Van Dyck l'europeo
DESCRIPTION:WebinARTE RISERVATO agli iscritti al viaggio di Genova. \nSe vuoi partecipare all’incontro puoi iscriverti QUI
URL:https://webinarte.com/event/webinarte-riservato-van-dyck-leuropeo/
CATEGORIES:Webinarte Riservati
ATTACH;FMTTYPE=image/jpeg:https://webinarte.com/wp-content/uploads/2026/04/cattura.jpg-891809-PA6hQY1w.jpg
END:VEVENT
BEGIN:VEVENT
DTSTART;TZID=Europe/Rome:20260421T210000
DTEND;TZID=Europe/Rome:20260421T220000
DTSTAMP:20260421T125401
CREATED:20260408T201138Z
LAST-MODIFIED:20260408T201138Z
UID:10000186-1776805200-1776808800@webinarte.com
SUMMARY:WebinARTE: Perché non abbiamo un’architettura “di regime?"  Un vuoto architettonico\, fra giochi di palazzo e giochi di potere a cura di Mattia Barana
DESCRIPTION:in aggiornamento
URL:https://webinarte.com/event/webinarte-perche-non-abbiamo-unarchitettura-di-regime-un-vuoto-architettonico-fra-giochi-di-palazzo-e-giochi-di-potere-a-cura-di-mattia-barana/
CATEGORIES:I Webinarte
END:VEVENT
END:VCALENDAR